BEGIN:VCALENDAR
VERSION:2.0
PRODID:-//Estate Planning &amp; Elder Law Services, P.C - ECPv6.15.15//NONSGML v1.0//EN
CALSCALE:GREGORIAN
METHOD:PUBLISH
X-WR-CALNAME:Estate Planning &amp; Elder Law Services, P.C
X-ORIGINAL-URL:https://www.formyplan.com
X-WR-CALDESC:Events for Estate Planning &amp; Elder Law Services, P.C
REFRESH-INTERVAL;VALUE=DURATION:PT1H
X-Robots-Tag:noindex
X-PUBLISHED-TTL:PT1H
BEGIN:VTIMEZONE
TZID:America/Detroit
BEGIN:DAYLIGHT
TZOFFSETFROM:-0500
TZOFFSETTO:-0400
TZNAME:EDT
DTSTART:20250309T070000
END:DAYLIGHT
BEGIN:STANDARD
TZOFFSETFROM:-0400
TZOFFSETTO:-0500
TZNAME:EST
DTSTART:20251102T060000
END:STANDARD
BEGIN:DAYLIGHT
TZOFFSETFROM:-0500
TZOFFSETTO:-0400
TZNAME:EDT
DTSTART:20260308T070000
END:DAYLIGHT
BEGIN:STANDARD
TZOFFSETFROM:-0400
TZOFFSETTO:-0500
TZNAME:EST
DTSTART:20261101T060000
END:STANDARD
BEGIN:DAYLIGHT
TZOFFSETFROM:-0500
TZOFFSETTO:-0400
TZNAME:EDT
DTSTART:20270314T070000
END:DAYLIGHT
BEGIN:STANDARD
TZOFFSETFROM:-0400
TZOFFSETTO:-0500
TZNAME:EST
DTSTART:20271107T060000
END:STANDARD
END:VTIMEZONE
BEGIN:VEVENT
DTSTART;TZID=America/Detroit:20260429T180000
DTEND;TZID=America/Detroit:20260429T200000
DTSTAMP:20260423T004521
CREATED:20260107T152226Z
LAST-MODIFIED:20260326T151210Z
UID:11267-1777485600-1777492800@www.formyplan.com
SUMMARY:Long-Term Care/Medicaid Planning – Brighton
DESCRIPTION:(810) 299-4130 \nRegister Online
URL:https://www.formyplan.com/event/long-term-care-medicaid-planning-brighton-3/
LOCATION:Brighton Education and Community Center (BECC)\, 125 S. Church St.\, Senior Center - Studio A\, Brighton\, MI\, 48116\, United States
CATEGORIES:Long Term Care / Medicaid Planning
ATTACH;FMTTYPE=image/png:https://www.formyplan.com/wp-content/uploads/2023/10/blog.png
END:VEVENT
BEGIN:VEVENT
DTSTART;TZID=America/Detroit:20260519T180000
DTEND;TZID=America/Detroit:20260519T200000
DTSTAMP:20260423T004521
CREATED:20260326T142809Z
LAST-MODIFIED:20260326T151534Z
UID:12133-1779213600-1779220800@www.formyplan.com
SUMMARY:Long Term Care/Medicaid Planning – Ann Arbor
DESCRIPTION:(734) 994-2300 ext. 0 \nRegister Online
URL:https://www.formyplan.com/event/long-term-care-medicaid-planning-ann-arbor-3/
LOCATION:Ann Arbor Community Education\, Pioneer Room D205\, Pioneer High School\, 601 W. Stadium Blvd.\, Ann Arbor\, MI\, 48103\, United States
CATEGORIES:Long Term Care / Medicaid Planning
ATTACH;FMTTYPE=image/png:https://www.formyplan.com/wp-content/uploads/2023/10/blog.png
END:VEVENT
BEGIN:VEVENT
DTSTART;TZID=America/Detroit:20260729T180000
DTEND;TZID=America/Detroit:20260729T200000
DTSTAMP:20260423T004521
CREATED:20260326T144103Z
LAST-MODIFIED:20260326T150308Z
UID:12135-1785348000-1785355200@www.formyplan.com
SUMMARY:Long-Term Care/Medicaid Planning – Brighton
DESCRIPTION:(810) 299-4130 \nRegister Online
URL:https://www.formyplan.com/event/long-term-care-medicaid-planning-brighton-4/
LOCATION:Brighton Education and Community Center (BECC)\, 125 S. Church St.\, Senior Center - Studio A\, Brighton\, MI\, 48116\, United States
CATEGORIES:Long Term Care / Medicaid Planning
ATTACH;FMTTYPE=image/png:https://www.formyplan.com/wp-content/uploads/2023/10/blog.png
END:VEVENT
BEGIN:VEVENT
DTSTART;TZID=America/Detroit:20260806T180000
DTEND;TZID=America/Detroit:20260806T200000
DTSTAMP:20260423T004521
CREATED:20260326T150041Z
LAST-MODIFIED:20260326T152111Z
UID:12139-1786039200-1786046400@www.formyplan.com
SUMMARY:Long Term Care/ Medicaid Planning – Ann Arbor
DESCRIPTION:734-994-2300 ext. 0 \nRegister Online
URL:https://www.formyplan.com/event/long-term-care-medicaid-planning-ann-arbor-6/
LOCATION:Ann Arbor Community Education\, Pioneer Room D205\, Pioneer High School\, 601 W. Stadium Blvd.\, Ann Arbor\, MI\, 48103\, United States
CATEGORIES:Long Term Care / Medicaid Planning
ATTACH;FMTTYPE=image/png:https://www.formyplan.com/wp-content/uploads/2023/10/blog.png
END:VEVENT
END:VCALENDAR