BEGIN:VCALENDAR
VERSION:2.0
PRODID:-//Estate Planning &amp; Elder Law Services, P.C - ECPv6.15.15//NONSGML v1.0//EN
CALSCALE:GREGORIAN
METHOD:PUBLISH
X-ORIGINAL-URL:https://www.formyplan.com
X-WR-CALDESC:Events for Estate Planning &amp; Elder Law Services, P.C
REFRESH-INTERVAL;VALUE=DURATION:PT1H
X-Robots-Tag:noindex
X-PUBLISHED-TTL:PT1H
BEGIN:VTIMEZONE
TZID:America/Detroit
BEGIN:DAYLIGHT
TZOFFSETFROM:-0500
TZOFFSETTO:-0400
TZNAME:EDT
DTSTART:20230312T070000
END:DAYLIGHT
BEGIN:STANDARD
TZOFFSETFROM:-0400
TZOFFSETTO:-0500
TZNAME:EST
DTSTART:20231105T060000
END:STANDARD
BEGIN:DAYLIGHT
TZOFFSETFROM:-0500
TZOFFSETTO:-0400
TZNAME:EDT
DTSTART:20240310T070000
END:DAYLIGHT
BEGIN:STANDARD
TZOFFSETFROM:-0400
TZOFFSETTO:-0500
TZNAME:EST
DTSTART:20241103T060000
END:STANDARD
BEGIN:DAYLIGHT
TZOFFSETFROM:-0500
TZOFFSETTO:-0400
TZNAME:EDT
DTSTART:20250309T070000
END:DAYLIGHT
BEGIN:STANDARD
TZOFFSETFROM:-0400
TZOFFSETTO:-0500
TZNAME:EST
DTSTART:20251102T060000
END:STANDARD
BEGIN:DAYLIGHT
TZOFFSETFROM:-0500
TZOFFSETTO:-0400
TZNAME:EDT
DTSTART:20260308T070000
END:DAYLIGHT
BEGIN:STANDARD
TZOFFSETFROM:-0400
TZOFFSETTO:-0500
TZNAME:EST
DTSTART:20261101T060000
END:STANDARD
BEGIN:DAYLIGHT
TZOFFSETFROM:-0500
TZOFFSETTO:-0400
TZNAME:EDT
DTSTART:20270314T070000
END:DAYLIGHT
BEGIN:STANDARD
TZOFFSETFROM:-0400
TZOFFSETTO:-0500
TZNAME:EST
DTSTART:20271107T060000
END:STANDARD
END:VTIMEZONE
BEGIN:VEVENT
DTSTART;TZID=America/Detroit:20260422T180000
DTEND;TZID=America/Detroit:20260422T200000
DTSTAMP:20260423T023018
CREATED:20260107T152929Z
LAST-MODIFIED:20260326T151326Z
UID:11275-1776880800-1776888000@www.formyplan.com
SUMMARY:Long Term Care/Medicaid Planning – Pinckney
DESCRIPTION:(810) 225-3952 \nRegister Online
URL:https://www.formyplan.com/event/long-term-care-medicaid-planning-pinckney-7/
LOCATION:Pinckney Community Education\, Pathfinder Conference Room\, Board of Education (419)\, Pathfinder Middle School\, 2130 M-36\, Pinckney\, MI\, 48169\, United States
CATEGORIES:Long Term Care / Medicaid Planning
ATTACH;FMTTYPE=image/png:https://www.formyplan.com/wp-content/uploads/2023/10/blog.png
END:VEVENT
BEGIN:VEVENT
DTSTART;TZID=America/Detroit:20260225T180000
DTEND;TZID=America/Detroit:20260225T200000
DTSTAMP:20260423T023018
CREATED:20260107T152135Z
LAST-MODIFIED:20260107T152135Z
UID:11265-1772042400-1772049600@www.formyplan.com
SUMMARY:Long-Term Care/Medicaid Planning – Brighton
DESCRIPTION:(810) 299-4130 \nRegister Online
URL:https://www.formyplan.com/event/long-term-care-medicaid-brighton-5/
LOCATION:Brighton Education and Community Center (BECC)\, 125 S. Church St.\, Senior Center - Studio A\, Brighton\, MI\, 48116\, United States
CATEGORIES:Long Term Care / Medicaid Planning
ATTACH;FMTTYPE=image/png:https://www.formyplan.com/wp-content/uploads/2023/10/blog.png
END:VEVENT
BEGIN:VEVENT
DTSTART;TZID=America/Detroit:20260211T180000
DTEND;TZID=America/Detroit:20260211T200000
DTSTAMP:20260423T023018
CREATED:20260107T152857Z
LAST-MODIFIED:20260107T152857Z
UID:11273-1770832800-1770840000@www.formyplan.com
SUMMARY:Long Term Care/Medicaid Planning – Pinckney
DESCRIPTION:(810) 225-3952 \nRegister Online
URL:https://www.formyplan.com/event/long-term-care-medicaid-planning-pinckney-6/
LOCATION:Pinckney Community Education\, Pathfinder Conference Room\, Board of Education (419)\, Pathfinder Middle School\, 2130 M-36\, Pinckney\, MI\, 48169\, United States
CATEGORIES:Long Term Care / Medicaid Planning
ATTACH;FMTTYPE=image/png:https://www.formyplan.com/wp-content/uploads/2023/10/blog.png
END:VEVENT
BEGIN:VEVENT
DTSTART;TZID=America/Detroit:20260120T180000
DTEND;TZID=America/Detroit:20260120T200000
DTSTAMP:20260423T023018
CREATED:20260107T151141Z
LAST-MODIFIED:20260107T151952Z
UID:11257-1768932000-1768939200@www.formyplan.com
SUMMARY:Long Term Care/Medicaid Planning – Ann Arbor
DESCRIPTION:(734) 994-2300 ext. 0 \nRegister Online
URL:https://www.formyplan.com/event/long-term-care-medicaid-planning-ann-arbor-2/
LOCATION:Ann Arbor Community Education\, Pioneer Room D205\, Pioneer High School\, 601 W. Stadium Blvd.\, Ann Arbor\, MI\, 48103\, United States
CATEGORIES:Long Term Care / Medicaid Planning
ATTACH;FMTTYPE=image/png:https://www.formyplan.com/wp-content/uploads/2023/10/blog.png
END:VEVENT
BEGIN:VEVENT
DTSTART;TZID=America/Detroit:20251217T180000
DTEND;TZID=America/Detroit:20251217T200000
DTSTAMP:20260423T023018
CREATED:20250821T185447Z
LAST-MODIFIED:20251110T145642Z
UID:11106-1765994400-1766001600@www.formyplan.com
SUMMARY:Long Term Care/Medicaid Planning – Pinckney
DESCRIPTION:(810) 225-3952 \nRegister Online
URL:https://www.formyplan.com/event/long-term-care-medicaid-planning-pinckney-5/
LOCATION:Pinckney Community Education\, Pathfinder Conference Room\, Board of Education (419)\, Pathfinder Middle School\, 2130 M-36\, Pinckney\, MI\, 48169\, United States
CATEGORIES:Long Term Care / Medicaid Planning
ATTACH;FMTTYPE=image/png:https://www.formyplan.com/wp-content/uploads/2023/10/blog.png
END:VEVENT
BEGIN:VEVENT
DTSTART;TZID=America/Detroit:20251125T180000
DTEND;TZID=America/Detroit:20251125T200000
DTSTAMP:20260423T023018
CREATED:20250624T210711Z
LAST-MODIFIED:20251110T145856Z
UID:11037-1764093600-1764100800@www.formyplan.com
SUMMARY:Long Term Care/ Medicaid Planning – Ann Arbor
DESCRIPTION:734-994-2300 ext. 0 \nRegister Online
URL:https://www.formyplan.com/event/long-term-care-medicaid-planning-ann-arbor-5/
LOCATION:Ann Arbor Community Education\, Pioneer Room D205\, Pioneer High School\, 601 W. Stadium Blvd.\, Ann Arbor\, MI\, 48103\, United States
CATEGORIES:Long Term Care / Medicaid Planning
ATTACH;FMTTYPE=image/png:https://www.formyplan.com/wp-content/uploads/2023/10/blog.png
END:VEVENT
BEGIN:VEVENT
DTSTART;TZID=America/Detroit:20251028T180000
DTEND;TZID=America/Detroit:20251028T200000
DTSTAMP:20260423T023018
CREATED:20250624T210514Z
LAST-MODIFIED:20250624T210514Z
UID:11033-1761674400-1761681600@www.formyplan.com
SUMMARY:Long Term Care/ Medicaid Planning – Ann Arbor
DESCRIPTION:734-994-2300 ext. 0 \nRegister Online
URL:https://www.formyplan.com/event/long-term-care-medicaid-planning-ann-arbor-4/
LOCATION:Ann Arbor Community Education\, Pioneer Room D205\, Pioneer High School\, 601 W. Stadium Blvd.\, Ann Arbor\, MI\, 48103\, United States
CATEGORIES:Long Term Care / Medicaid Planning
ATTACH;FMTTYPE=image/png:https://www.formyplan.com/wp-content/uploads/2023/10/blog.png
END:VEVENT
BEGIN:VEVENT
DTSTART;TZID=America/Detroit:20251015T180000
DTEND;TZID=America/Detroit:20251015T200000
DTSTAMP:20260423T023018
CREATED:20250624T170501Z
LAST-MODIFIED:20250624T171335Z
UID:11015-1760551200-1760558400@www.formyplan.com
SUMMARY:Long Term Care/ Medicaid Planning – Brighton
DESCRIPTION:248-609-3045 \nRegister Online
URL:https://www.formyplan.com/event/long-term-care-medicaid-planning-brighton-2/
LOCATION:Miller Intergenerational Center\, 850 Spencer Rd.\, Brighton\, MI\, 48116
CATEGORIES:Long Term Care / Medicaid Planning
ATTACH;FMTTYPE=image/png:https://www.formyplan.com/wp-content/uploads/2023/10/blog.png
END:VEVENT
BEGIN:VEVENT
DTSTART;TZID=America/Detroit:20251008T180000
DTEND;TZID=America/Detroit:20251008T200000
DTSTAMP:20260423T023018
CREATED:20250821T185347Z
LAST-MODIFIED:20250821T185347Z
UID:11102-1759946400-1759953600@www.formyplan.com
SUMMARY:Long Term Care/Medicaid Planning – Pinckney
DESCRIPTION:(810) 225-3952 \nRegister Online
URL:https://www.formyplan.com/event/long-term-care-medicaid-planning-pinckney-3/
LOCATION:Pinckney Community Education\, Pathfinder Conference Room\, Board of Education (419)\, Pathfinder Middle School\, 2130 M-36\, Pinckney\, MI\, 48169\, United States
CATEGORIES:Long Term Care / Medicaid Planning
ATTACH;FMTTYPE=image/png:https://www.formyplan.com/wp-content/uploads/2023/10/blog.png
END:VEVENT
BEGIN:VEVENT
DTSTART;TZID=America/Detroit:20250819T180000
DTEND;TZID=America/Detroit:20250819T200000
DTSTAMP:20260423T023018
CREATED:20250624T164752Z
LAST-MODIFIED:20250624T171345Z
UID:10996-1755626400-1755633600@www.formyplan.com
SUMMARY:Long Term Care/Medicaid Planning – Pinckney
DESCRIPTION:(810) 225-3952 \nRegister Online
URL:https://www.formyplan.com/event/long-term-care-medicaid-planning-pinckney-2/
LOCATION:Pinckney Community Education\, Pathfinder Conference Room\, Board of Education (419)\, Pathfinder Middle School\, 2130 M-36\, Pinckney\, MI\, 48169\, United States
CATEGORIES:Long Term Care / Medicaid Planning
ATTACH;FMTTYPE=image/png:https://www.formyplan.com/wp-content/uploads/2023/10/blog.png
END:VEVENT
BEGIN:VEVENT
DTSTART;TZID=America/Detroit:20250812T180000
DTEND;TZID=America/Detroit:20250812T200000
DTSTAMP:20260423T023018
CREATED:20250624T170426Z
LAST-MODIFIED:20250624T171357Z
UID:11013-1755021600-1755028800@www.formyplan.com
SUMMARY:Long Term Care/ Medicaid Planning – Brighton
DESCRIPTION:248-609-3045 \nRegister Online
URL:https://www.formyplan.com/event/long-term-care-medicaid-planning-brighton/
LOCATION:Miller Intergenerational Center\, 850 Spencer Rd.\, Brighton\, MI\, 48116
CATEGORIES:Long Term Care / Medicaid Planning
ATTACH;FMTTYPE=image/png:https://www.formyplan.com/wp-content/uploads/2023/10/blog.png
END:VEVENT
BEGIN:VEVENT
DTSTART;TZID=America/Detroit:20250729T180000
DTEND;TZID=America/Detroit:20250729T200000
DTSTAMP:20260423T023018
CREATED:20250624T165320Z
LAST-MODIFIED:20250624T171532Z
UID:11003-1753812000-1753819200@www.formyplan.com
SUMMARY:Long Term Care/ Medicaid Planning – Ann Arbor
DESCRIPTION:734-994-2300 ext. 0 \nRegister Online
URL:https://www.formyplan.com/event/long-term-care-medicaid-planning-ann-arbor/
LOCATION:Ann Arbor Community Education\, Pioneer Room D205\, Pioneer High School\, 601 W. Stadium Blvd.\, Ann Arbor\, MI\, 48103\, United States
CATEGORIES:Long Term Care / Medicaid Planning
ATTACH;FMTTYPE=image/png:https://www.formyplan.com/wp-content/uploads/2023/10/blog.png
END:VEVENT
BEGIN:VEVENT
DTSTART;TZID=America/Detroit:20250701T180000
DTEND;TZID=America/Detroit:20250701T200000
DTSTAMP:20260423T023018
CREATED:20250624T164252Z
LAST-MODIFIED:20250624T164252Z
UID:10992-1751392800-1751400000@www.formyplan.com
SUMMARY:Long Term Care/Medicaid Planning – Pinckney
DESCRIPTION:(810) 225-3952 \nRegister Online
URL:https://www.formyplan.com/event/long-term-care-medicaid-planning-pinckney/
LOCATION:Pinckney Community Education\, Pathfinder Conference Room\, Board of Education (419)\, Pathfinder Middle School\, 2130 M-36\, Pinckney\, MI\, 48169\, United States
CATEGORIES:Long Term Care / Medicaid Planning
ATTACH;FMTTYPE=image/png:https://www.formyplan.com/wp-content/uploads/2023/10/blog.png
END:VEVENT
BEGIN:VEVENT
DTSTART;TZID=America/Detroit:20250429T180000
DTEND;TZID=America/Detroit:20250429T200000
DTSTAMP:20260423T023018
CREATED:20250103T205036Z
LAST-MODIFIED:20250103T205036Z
UID:10736-1745949600-1745956800@www.formyplan.com
SUMMARY:Long-Term Care/Medicaid Planning - Brighton | April 29th\, 2025
DESCRIPTION:888-663-7407 \nRegister Online
URL:https://www.formyplan.com/event/long-term-care-medicaid-planning-brighton-april-29th-2025/
LOCATION:Miller Intergenerational Center\, 850 Spencer Rd.\, Brighton\, MI\, 48116
CATEGORIES:Long Term Care / Medicaid Planning
ATTACH;FMTTYPE=image/png:https://www.formyplan.com/wp-content/uploads/2023/10/blog.png
END:VEVENT
BEGIN:VEVENT
DTSTART;TZID=America/Detroit:20250422T180000
DTEND;TZID=America/Detroit:20250422T200000
DTSTAMP:20260423T023018
CREATED:20250103T205353Z
LAST-MODIFIED:20250103T205353Z
UID:10742-1745344800-1745352000@www.formyplan.com
SUMMARY:Long-Term Care Planning - Pinckney | April 22nd\, 2025
DESCRIPTION:(810) 225-3952 \nRegister Online
URL:https://www.formyplan.com/event/long-term-care-planning-pinckney-april-22nd-2025/
LOCATION:Pinckney Community Education\, Pathfinder Conference Room\, Board of Education (419)\, Pathfinder Middle School\, 2130 M-36\, Pinckney\, MI\, 48169\, United States
CATEGORIES:Long Term Care / Medicaid Planning
ATTACH;FMTTYPE=image/png:https://www.formyplan.com/wp-content/uploads/2023/10/blog.png
END:VEVENT
BEGIN:VEVENT
DTSTART;TZID=America/Detroit:20250225T180000
DTEND;TZID=America/Detroit:20250225T200000
DTSTAMP:20260423T023018
CREATED:20250103T204516Z
LAST-MODIFIED:20250103T204516Z
UID:10728-1740506400-1740513600@www.formyplan.com
SUMMARY:Long Term Care/Medicaid Planning – Ann Arbor | February 25th\, 2025
DESCRIPTION:(734) 994-2300 \nRegister Online
URL:https://www.formyplan.com/event/long-term-care-medicaid-planning-ann-arbor-february-25th-2025/
LOCATION:Ann Arbor Community Education and Recreation\, 1515 S 7th St.\, Ann Arbor\, MI\, 48103
CATEGORIES:Long Term Care / Medicaid Planning
ATTACH;FMTTYPE=image/png:https://www.formyplan.com/wp-content/uploads/2023/10/blog.png
END:VEVENT
BEGIN:VEVENT
DTSTART;TZID=America/Detroit:20250218T180000
DTEND;TZID=America/Detroit:20250218T200000
DTSTAMP:20260423T023018
CREATED:20250103T205313Z
LAST-MODIFIED:20250103T205313Z
UID:10740-1739901600-1739908800@www.formyplan.com
SUMMARY:Long-Term Care Planning - Pinckney | February 18th\, 2025
DESCRIPTION:(810) 225-3952 \nRegister Online
URL:https://www.formyplan.com/event/long-term-care-planning-pinckney-february-18th-2025/
LOCATION:Pinckney Community Education\, Pathfinder Conference Room\, Board of Education (419)\, Pathfinder Middle School\, 2130 M-36\, Pinckney\, MI\, 48169\, United States
CATEGORIES:Long Term Care / Medicaid Planning
ATTACH;FMTTYPE=image/png:https://www.formyplan.com/wp-content/uploads/2023/10/blog.png
END:VEVENT
BEGIN:VEVENT
DTSTART;TZID=America/Detroit:20250211T180000
DTEND;TZID=America/Detroit:20250211T200000
DTSTAMP:20260423T023018
CREATED:20250103T204946Z
LAST-MODIFIED:20250103T204946Z
UID:10734-1739296800-1739304000@www.formyplan.com
SUMMARY:Long-Term Care/Medicaid Planning - Brighton | February 11th\, 2025
DESCRIPTION:888-663-7407 \nRegister Online
URL:https://www.formyplan.com/event/long-term-care-medicaid-planning-brighton-february-11th-2025/
LOCATION:Miller Intergenerational Center\, 850 Spencer Rd.\, Brighton\, MI\, 48116
CATEGORIES:Long Term Care / Medicaid Planning
ATTACH;FMTTYPE=image/png:https://www.formyplan.com/wp-content/uploads/2023/10/blog.png
END:VEVENT
BEGIN:VEVENT
DTSTART;TZID=America/Detroit:20250115T180000
DTEND;TZID=America/Detroit:20250115T200000
DTSTAMP:20260423T023018
CREATED:20250103T205227Z
LAST-MODIFIED:20250103T205227Z
UID:10738-1736964000-1736971200@www.formyplan.com
SUMMARY:Long-Term Care Planning - Pinckney | January 15th\, 2025
DESCRIPTION:(810) 225-3952 \nRegister Online
URL:https://www.formyplan.com/event/long-term-care-planning-pinckney-january-15th-2025/
LOCATION:Pinckney Community Education\, Pathfinder Conference Room\, Board of Education (419)\, Pathfinder Middle School\, 2130 M-36\, Pinckney\, MI\, 48169\, United States
CATEGORIES:Long Term Care / Medicaid Planning
ATTACH;FMTTYPE=image/png:https://www.formyplan.com/wp-content/uploads/2023/10/blog.png
END:VEVENT
BEGIN:VEVENT
DTSTART;TZID=America/Detroit:20241210T180000
DTEND;TZID=America/Detroit:20241210T200000
DTSTAMP:20260423T023018
CREATED:20240814T193612Z
LAST-MODIFIED:20240814T193612Z
UID:10562-1733853600-1733860800@www.formyplan.com
SUMMARY:Long-Term Care/medicaid Planning - Brighton | December 10th\, 2024
DESCRIPTION:888-663-7407 \nRegister Online
URL:https://www.formyplan.com/event/long-term-care-medicaid-planning-brighton-december-10th-2024/
LOCATION:Brighton Community Education\, 125 S Church St\, Brighton\, MI\, 48116\, United States
CATEGORIES:Long Term Care / Medicaid Planning
ATTACH;FMTTYPE=image/png:https://www.formyplan.com/wp-content/uploads/2023/10/blog.png
END:VEVENT
BEGIN:VEVENT
DTSTART;TZID=America/Detroit:20241203T180000
DTEND;TZID=America/Detroit:20241203T200000
DTSTAMP:20260423T023018
CREATED:20240826T201810Z
LAST-MODIFIED:20240826T201810Z
UID:10596-1733248800-1733256000@www.formyplan.com
SUMMARY:Long-Term Care Planning - Pinckney | December 3rd\, 2024
DESCRIPTION:(810) 225-3952 \nRegister Online
URL:https://www.formyplan.com/event/long-term-care-planning-pinckney-december-3rd-2024/
LOCATION:Pinckney Community Education\, Pathfinder Conference Room\, Board of Education (419)\, Pathfinder Middle School\, 2130 M-36\, Pinckney\, MI\, 48169\, United States
CATEGORIES:Long Term Care / Medicaid Planning
ATTACH;FMTTYPE=image/png:https://www.formyplan.com/wp-content/uploads/2023/10/blog.png
END:VEVENT
BEGIN:VEVENT
DTSTART;TZID=America/Detroit:20241029T180000
DTEND;TZID=America/Detroit:20241029T200000
DTSTAMP:20260423T023018
CREATED:20240814T190201Z
LAST-MODIFIED:20240814T191131Z
UID:10546-1730224800-1730232000@www.formyplan.com
SUMMARY:Long Term Care/Medicaid Planning – Ann Arbor | October 29th\, 2024
DESCRIPTION:(734) 994-2300 \nRegister Online
URL:https://www.formyplan.com/event/long-term-care-medicaid-planning-ann-arbor-october_29th-2024/
LOCATION:Ann Arbor Community Education and Recreation\, 1515 S 7th St.\, Ann Arbor\, MI\, 48103
CATEGORIES:Long Term Care / Medicaid Planning
ATTACH;FMTTYPE=image/png:https://www.formyplan.com/wp-content/uploads/2023/10/blog.png
END:VEVENT
BEGIN:VEVENT
DTSTART;TZID=America/Detroit:20241015T180000
DTEND;TZID=America/Detroit:20241015T200000
DTSTAMP:20260423T023018
CREATED:20240826T201634Z
LAST-MODIFIED:20240826T201634Z
UID:10594-1729015200-1729022400@www.formyplan.com
SUMMARY:Long-Term Care Planning - Pinckney | October 15th\, 2024
DESCRIPTION:(810) 225-3952 \nRegister Online
URL:https://www.formyplan.com/event/long-term-care-planning-pinckney-october-15th-2024/
LOCATION:Pinckney Community Education\, Pathfinder Conference Room\, Board of Education (419)\, Pathfinder Middle School\, 2130 M-36\, Pinckney\, MI\, 48169\, United States
CATEGORIES:Long Term Care / Medicaid Planning
ATTACH;FMTTYPE=image/png:https://www.formyplan.com/wp-content/uploads/2023/10/blog.png
END:VEVENT
BEGIN:VEVENT
DTSTART;TZID=America/Detroit:20241008T180000
DTEND;TZID=America/Detroit:20241008T180000
DTSTAMP:20260423T023018
CREATED:20240814T185516Z
LAST-MODIFIED:20240814T185516Z
UID:10540-1728410400-1728410400@www.formyplan.com
SUMMARY:Long-Term Care/Medicaid Planning – Brighton | October 8th\, 2024
DESCRIPTION:248-600-5481 \nRegister Online
URL:https://www.formyplan.com/event/long-term-care-medicaid-planning-brighton-october-8th-2024/
LOCATION:MI
CATEGORIES:Long Term Care / Medicaid Planning
ATTACH;FMTTYPE=image/png:https://www.formyplan.com/wp-content/uploads/2023/10/blog.png
END:VEVENT
BEGIN:VEVENT
DTSTART;TZID=America/Detroit:20240723T180000
DTEND;TZID=America/Detroit:20240723T200000
DTSTAMP:20260423T023018
CREATED:20240814T192149Z
LAST-MODIFIED:20240814T193425Z
UID:10554-1721757600-1721764800@www.formyplan.com
SUMMARY:Long Term Care/Medicaid Planning - Ann Arbor | July 23rd\, 2024
DESCRIPTION:888-663-7407 \nRegister Online
URL:https://www.formyplan.com/event/long-term-care-medicaid-planning-ann-arbor-july-23rd/
LOCATION:Ann Arbor Community Education and Recreation\, 1515 S 7th St.\, Ann Arbor\, MI\, 48103
CATEGORIES:Long Term Care / Medicaid Planning
ATTACH;FMTTYPE=image/png:https://www.formyplan.com/wp-content/uploads/2023/10/blog.png
END:VEVENT
END:VCALENDAR