BEGIN:VCALENDAR
VERSION:2.0
PRODID:-//Estate Planning &amp; Elder Law Services, P.C - ECPv6.15.15//NONSGML v1.0//EN
CALSCALE:GREGORIAN
METHOD:PUBLISH
X-ORIGINAL-URL:https://www.formyplan.com
X-WR-CALDESC:Events for Estate Planning &amp; Elder Law Services, P.C
REFRESH-INTERVAL;VALUE=DURATION:PT1H
X-Robots-Tag:noindex
X-PUBLISHED-TTL:PT1H
BEGIN:VTIMEZONE
TZID:America/Detroit
BEGIN:DAYLIGHT
TZOFFSETFROM:-0500
TZOFFSETTO:-0400
TZNAME:EDT
DTSTART:20230312T070000
END:DAYLIGHT
BEGIN:STANDARD
TZOFFSETFROM:-0400
TZOFFSETTO:-0500
TZNAME:EST
DTSTART:20231105T060000
END:STANDARD
BEGIN:DAYLIGHT
TZOFFSETFROM:-0500
TZOFFSETTO:-0400
TZNAME:EDT
DTSTART:20240310T070000
END:DAYLIGHT
BEGIN:STANDARD
TZOFFSETFROM:-0400
TZOFFSETTO:-0500
TZNAME:EST
DTSTART:20241103T060000
END:STANDARD
BEGIN:DAYLIGHT
TZOFFSETFROM:-0500
TZOFFSETTO:-0400
TZNAME:EDT
DTSTART:20250309T070000
END:DAYLIGHT
BEGIN:STANDARD
TZOFFSETFROM:-0400
TZOFFSETTO:-0500
TZNAME:EST
DTSTART:20251102T060000
END:STANDARD
BEGIN:DAYLIGHT
TZOFFSETFROM:-0500
TZOFFSETTO:-0400
TZNAME:EDT
DTSTART:20260308T070000
END:DAYLIGHT
BEGIN:STANDARD
TZOFFSETFROM:-0400
TZOFFSETTO:-0500
TZNAME:EST
DTSTART:20261101T060000
END:STANDARD
END:VTIMEZONE
BEGIN:VEVENT
DTSTART;TZID=America/Detroit:20250415T180000
DTEND;TZID=America/Detroit:20250415T200000
DTSTAMP:20260420T235958
CREATED:20250103T205631Z
LAST-MODIFIED:20250103T205631Z
UID:10748-1744740000-1744747200@www.formyplan.com
SUMMARY:Estate Planning Basics – Pinckney | April 15th\, 2025
DESCRIPTION:(810) 225-3952 \nRegister Online
URL:https://www.formyplan.com/event/estate-planning-basics-pinckney-april-15th-2025/
LOCATION:Pinckney Community Education\, Pathfinder Conference Room\, Board of Education (419)\, Pathfinder Middle School\, 2130 M-36\, Pinckney\, MI\, 48169\, United States
CATEGORIES:Estate Planning Basics
ATTACH;FMTTYPE=image/png:https://www.formyplan.com/wp-content/uploads/2023/10/blog.png
END:VEVENT
BEGIN:VEVENT
DTSTART;TZID=America/Detroit:20250401T180000
DTEND;TZID=America/Detroit:20250401T200000
DTSTAMP:20260420T235958
CREATED:20250103T204812Z
LAST-MODIFIED:20250103T204812Z
UID:10732-1743530400-1743537600@www.formyplan.com
SUMMARY:Estate Planning Basics- Brighton | April 1st\, 2025
DESCRIPTION:888-663-7407 \nRegister Online
URL:https://www.formyplan.com/event/estate-planning-basics-brighton-april-1st-2025/
LOCATION:Miller Intergenerational Center\, 850 Spencer Rd.\, Brighton\, MI\, 48116
CATEGORIES:Estate Planning Basics
ATTACH;FMTTYPE=image/png:https://www.formyplan.com/wp-content/uploads/2023/10/blog.png
END:VEVENT
BEGIN:VEVENT
DTSTART;TZID=America/Detroit:20250318T180000
DTEND;TZID=America/Detroit:20250318T200000
DTSTAMP:20260420T235958
CREATED:20250103T205600Z
LAST-MODIFIED:20250103T205600Z
UID:10746-1742320800-1742328000@www.formyplan.com
SUMMARY:Estate Planning Basics – Pinckney | March 18th\, 2025
DESCRIPTION:(810) 225-3952 \nRegister Online
URL:https://www.formyplan.com/event/estate-planning-basics-pinckney-march-18th-2025/
LOCATION:Pinckney Community Education\, Pathfinder Conference Room\, Board of Education (419)\, Pathfinder Middle School\, 2130 M-36\, Pinckney\, MI\, 48169\, United States
CATEGORIES:Estate Planning Basics
ATTACH;FMTTYPE=image/png:https://www.formyplan.com/wp-content/uploads/2023/10/blog.png
END:VEVENT
BEGIN:VEVENT
DTSTART;TZID=America/Detroit:20250204T180000
DTEND;TZID=America/Detroit:20250204T200000
DTSTAMP:20260420T235958
CREATED:20250103T205514Z
LAST-MODIFIED:20250103T205514Z
UID:10744-1738692000-1738699200@www.formyplan.com
SUMMARY:Estate Planning Basics – Pinckney | February 4th\, 2025
DESCRIPTION:(810) 225-3952 \nRegister Online
URL:https://www.formyplan.com/event/estate-planning-basics-pinckney-february-4th-2025/
LOCATION:Pinckney Community Education\, Pathfinder Conference Room\, Board of Education (419)\, Pathfinder Middle School\, 2130 M-36\, Pinckney\, MI\, 48169\, United States
CATEGORIES:Estate Planning Basics
ATTACH;FMTTYPE=image/png:https://www.formyplan.com/wp-content/uploads/2023/10/blog.png
END:VEVENT
BEGIN:VEVENT
DTSTART;TZID=America/Detroit:20250128T180000
DTEND;TZID=America/Detroit:20250128T200000
DTSTAMP:20260420T235958
CREATED:20250103T204720Z
LAST-MODIFIED:20250103T204720Z
UID:10730-1738087200-1738094400@www.formyplan.com
SUMMARY:Estate Planning Basics- Brighton | January 28th\, 2025
DESCRIPTION:888-663-7407 \nRegister Online
URL:https://www.formyplan.com/event/estate-planning-basics-brighton-january-28th-2025/
LOCATION:Miller Intergenerational Center\, 850 Spencer Rd.\, Brighton\, MI\, 48116
CATEGORIES:Estate Planning Basics
ATTACH;FMTTYPE=image/png:https://www.formyplan.com/wp-content/uploads/2023/10/blog.png
END:VEVENT
BEGIN:VEVENT
DTSTART;TZID=America/Detroit:20250121T180000
DTEND;TZID=America/Detroit:20250121T200000
DTSTAMP:20260420T235958
CREATED:20250103T204345Z
LAST-MODIFIED:20250103T204345Z
UID:10726-1737482400-1737489600@www.formyplan.com
SUMMARY:Estate Planning Basics – Ann Arbor | January 21st\, 2025
DESCRIPTION:(734) 994-2300 \nRegister Online
URL:https://www.formyplan.com/event/estate-planning-basics-ann-arbor-january-21st-2025/
LOCATION:Ann Arbor Community Education and Recreation\, 1515 S 7th St.\, Ann Arbor\, MI\, 48103
CATEGORIES:Estate Planning Basics
ATTACH;FMTTYPE=image/png:https://www.formyplan.com/wp-content/uploads/2023/10/blog.png
END:VEVENT
BEGIN:VEVENT
DTSTART;TZID=America/Detroit:20241121T180000
DTEND;TZID=America/Detroit:20241121T200000
DTSTAMP:20260420T235958
CREATED:20240826T201323Z
LAST-MODIFIED:20240826T201323Z
UID:10592-1732212000-1732219200@www.formyplan.com
SUMMARY:Estate Planning Basics – Pinckney | November 21st\, 2024
DESCRIPTION:(810) 225-3952 \nRegister Online
URL:https://www.formyplan.com/event/estate-planning-basics-pinckney-november-21st-2024/
LOCATION:Pinckney Community Education\, Pathfinder Conference Room\, Board of Education (419)\, Pathfinder Middle School\, 2130 M-36\, Pinckney\, MI\, 48169\, United States
CATEGORIES:Estate Planning Basics
ATTACH;FMTTYPE=image/png:https://www.formyplan.com/wp-content/uploads/2023/10/blog.png
END:VEVENT
BEGIN:VEVENT
DTSTART;TZID=America/Detroit:20241112T180000
DTEND;TZID=America/Detroit:20241112T200000
DTSTAMP:20260420T235958
CREATED:20240814T194125Z
LAST-MODIFIED:20240814T194144Z
UID:10565-1731434400-1731441600@www.formyplan.com
SUMMARY:Estate Planning Basics- Brighton | November 12th\, 2024
DESCRIPTION:888-663-7407 \nRegister Online
URL:https://www.formyplan.com/event/estate-planning-basics-brighton-november-12th-2024/
LOCATION:Brighton Community Education\, 125 S Church St\, Brighton\, MI\, 48116\, United States
CATEGORIES:Estate Planning Basics
ATTACH;FMTTYPE=image/png:https://www.formyplan.com/wp-content/uploads/2023/10/blog.png
END:VEVENT
BEGIN:VEVENT
DTSTART;TZID=America/Detroit:20241001T180000
DTEND;TZID=America/Detroit:20241001T180000
DTSTAMP:20260420T235958
CREATED:20240813T210151Z
LAST-MODIFIED:20240814T181146Z
UID:10417-1727805600-1727805600@www.formyplan.com
SUMMARY:Estate Planning Basics – Ann Arbor | October 1st\, 2024
DESCRIPTION:(734) 994-2300 \nRegister Online
URL:https://www.formyplan.com/event/estate-planning-basics-ann-arbor-october-1st-2024/
LOCATION:Ann Arbor Community Education and Recreation\, 1515 S 7th St.\, Ann Arbor\, MI\, 48103
CATEGORIES:Estate Planning Basics
ATTACH;FMTTYPE=image/png:https://www.formyplan.com/wp-content/uploads/2023/10/blog.png
END:VEVENT
BEGIN:VEVENT
DTSTART;TZID=America/Detroit:20240924T180000
DTEND;TZID=America/Detroit:20240924T200000
DTSTAMP:20260420T235958
CREATED:20240826T201221Z
LAST-MODIFIED:20240826T201221Z
UID:10590-1727200800-1727208000@www.formyplan.com
SUMMARY:Estate Planning Basics – Pinckney | September 24th\, 2024
DESCRIPTION:(810) 225-3952 \nRegister Online
URL:https://www.formyplan.com/event/estate-planning-basics-pinckney-september-24th-2024/
LOCATION:Pinckney Community Education\, Pathfinder Conference Room\, Board of Education (419)\, Pathfinder Middle School\, 2130 M-36\, Pinckney\, MI\, 48169\, United States
CATEGORIES:Estate Planning Basics
ATTACH;FMTTYPE=image/png:https://www.formyplan.com/wp-content/uploads/2023/10/blog.png
END:VEVENT
BEGIN:VEVENT
DTSTART;TZID=America/Detroit:20240917T180000
DTEND;TZID=America/Detroit:20240917T180000
DTSTAMP:20260420T235958
CREATED:20240813T185141Z
LAST-MODIFIED:20240815T202544Z
UID:10407-1726596000-1726596000@www.formyplan.com
SUMMARY:Estate Planning Basics - Brighton | September 17th\, 2024
DESCRIPTION:248-422-1342 \nRegister Online
URL:https://www.formyplan.com/event/estate-planning-basics-brighton-sept-17-2024/
LOCATION:Brighton Community Education\, 125 S Church St\, Brighton\, MI\, 48116\, United States
CATEGORIES:Estate Planning Basics
ATTACH;FMTTYPE=image/jpeg:https://www.formyplan.com/wp-content/uploads/2024/07/iStock-2082172939.jpg
END:VEVENT
BEGIN:VEVENT
DTSTART;TZID=America/Detroit:20240523T180000
DTEND;TZID=America/Detroit:20240523T200000
DTSTAMP:20260420T235958
CREATED:20240814T185857Z
LAST-MODIFIED:20240814T193413Z
UID:10543-1716487200-1716494400@www.formyplan.com
SUMMARY:Estate Planning Basics – Walled Lake | May 23rd\, 2024
DESCRIPTION:248-609-1990 \nRegister Online
URL:https://www.formyplan.com/event/estate-planning-basics-walled_lake-may-23rd-2024/
LOCATION:Walled Lake Community Education\, 850 Ladd Rd Bldg D\, Walled Lake\, MI\, 48390
CATEGORIES:Estate Planning Basics
ATTACH;FMTTYPE=image/png:https://www.formyplan.com/wp-content/uploads/2023/10/blog.png
END:VEVENT
BEGIN:VEVENT
DTSTART;TZID=America/Detroit:20240416T180000
DTEND;TZID=America/Detroit:20240416T180000
DTSTAMP:20260420T235958
CREATED:20231020T160245Z
LAST-MODIFIED:20240814T194433Z
UID:9677-1713290400-1713290400@www.formyplan.com
SUMMARY:Estate Planning Basics - Ann Arbor — April 16\, 2024
DESCRIPTION:(734) 994-2300 \nRegister Online
URL:https://www.formyplan.com/event/estate-planning-basics-ann-arbor-april-16-2024/
LOCATION:Ann Arbor Community Education and Recreation\, 1515 S 7th St.\, Ann Arbor\, MI\, 48103
CATEGORIES:Estate Planning Basics
ATTACH;FMTTYPE=image/png:https://www.formyplan.com/wp-content/uploads/2023/10/blog.png
END:VEVENT
BEGIN:VEVENT
DTSTART;TZID=America/Detroit:20240215T180000
DTEND;TZID=America/Detroit:20240215T200000
DTSTAMP:20260420T235958
CREATED:20240814T190538Z
LAST-MODIFIED:20240814T190730Z
UID:10549-1708020000-1708027200@www.formyplan.com
SUMMARY:Estate Planning Basics - Ann Arbor | February 15th\, 2024
DESCRIPTION:(734) 401-4023 \nRegister Online
URL:https://www.formyplan.com/event/estate-planning-basics-ann-arbor-february_15th-2024/
LOCATION:Saline Community Education\, 7265 N Ann Arbor St.\, Saline\, MI\, 48176
CATEGORIES:Estate Planning Basics
ATTACH;FMTTYPE=image/png:https://www.formyplan.com/wp-content/uploads/2023/10/blog.png
END:VEVENT
BEGIN:VEVENT
DTSTART;TZID=America/Detroit:20240206T180000
DTEND;TZID=America/Detroit:20240206T200000
DTSTAMP:20260420T235958
CREATED:20240814T191030Z
LAST-MODIFIED:20240814T194234Z
UID:10548-1707242400-1707249600@www.formyplan.com
SUMMARY:Estate Planning Basics - Pinckney | February 6th\, 2024
DESCRIPTION:(810) 225-3952 \nRegister Online
URL:https://www.formyplan.com/event/estate-planning-basics-pinckney-february-6th-2024/
LOCATION:Pinckney Community Education\, Pathfinder Conference Room\, Board of Education (419)\, Pathfinder Middle School\, 2130 M-36\, Pinckney\, MI\, 48169\, United States
CATEGORIES:Estate Planning Basics
ATTACH;FMTTYPE=image/png:https://www.formyplan.com/wp-content/uploads/2023/10/blog.png
END:VEVENT
END:VCALENDAR