BEGIN:VCALENDAR
VERSION:2.0
PRODID:-//Estate Planning &amp; Elder Law Services, P.C - ECPv6.15.15//NONSGML v1.0//EN
CALSCALE:GREGORIAN
METHOD:PUBLISH
X-WR-CALNAME:Estate Planning &amp; Elder Law Services, P.C
X-ORIGINAL-URL:https://www.formyplan.com
X-WR-CALDESC:Events for Estate Planning &amp; Elder Law Services, P.C
REFRESH-INTERVAL;VALUE=DURATION:PT1H
X-Robots-Tag:noindex
X-PUBLISHED-TTL:PT1H
BEGIN:VTIMEZONE
TZID:America/Detroit
BEGIN:DAYLIGHT
TZOFFSETFROM:-0500
TZOFFSETTO:-0400
TZNAME:EDT
DTSTART:20250309T070000
END:DAYLIGHT
BEGIN:STANDARD
TZOFFSETFROM:-0400
TZOFFSETTO:-0500
TZNAME:EST
DTSTART:20251102T060000
END:STANDARD
BEGIN:DAYLIGHT
TZOFFSETFROM:-0500
TZOFFSETTO:-0400
TZNAME:EDT
DTSTART:20260308T070000
END:DAYLIGHT
BEGIN:STANDARD
TZOFFSETFROM:-0400
TZOFFSETTO:-0500
TZNAME:EST
DTSTART:20261101T060000
END:STANDARD
BEGIN:DAYLIGHT
TZOFFSETFROM:-0500
TZOFFSETTO:-0400
TZNAME:EDT
DTSTART:20270314T070000
END:DAYLIGHT
BEGIN:STANDARD
TZOFFSETFROM:-0400
TZOFFSETTO:-0500
TZNAME:EST
DTSTART:20271107T060000
END:STANDARD
END:VTIMEZONE
BEGIN:VEVENT
DTSTART;TZID=America/Detroit:20260513T180000
DTEND;TZID=America/Detroit:20260513T200000
DTSTAMP:20260421T000120
CREATED:20260107T152756Z
LAST-MODIFIED:20260326T151421Z
UID:11271-1778695200-1778702400@www.formyplan.com
SUMMARY:Estate Planning Basics – Pinckney
DESCRIPTION:(810) 225-3952 \nRegister Online
URL:https://www.formyplan.com/event/estate-planning-basics-pinckney-7/
LOCATION:Pinckney Community Education\, Pathfinder Conference Room\, Board of Education (419)\, Pathfinder Middle School\, 2130 M-36\, Pinckney\, MI\, 48169\, United States
CATEGORIES:Estate Planning Basics
ATTACH;FMTTYPE=image/png:https://www.formyplan.com/wp-content/uploads/2023/10/blog.png
END:VEVENT
BEGIN:VEVENT
DTSTART;TZID=America/Detroit:20260618T180000
DTEND;TZID=America/Detroit:20260618T200000
DTSTAMP:20260421T000120
CREATED:20260326T142609Z
LAST-MODIFIED:20260326T151932Z
UID:12131-1781805600-1781812800@www.formyplan.com
SUMMARY:Estate Planning Basics – Ann Arbor
DESCRIPTION:(734) 994-2300 ext. 0 \nRegister Online
URL:https://www.formyplan.com/event/estate-planning-basics-ann-arbor-4/
LOCATION:Ann Arbor Community Education\, Pioneer Room D205\, Pioneer High School\, 601 W. Stadium Blvd.\, Ann Arbor\, MI\, 48103\, United States
CATEGORIES:Estate Planning Basics
ATTACH;FMTTYPE=image/png:https://www.formyplan.com/wp-content/uploads/2023/10/blog.png
END:VEVENT
BEGIN:VEVENT
DTSTART;TZID=America/Detroit:20260624T180000
DTEND;TZID=America/Detroit:20260624T200000
DTSTAMP:20260421T000120
CREATED:20260326T143117Z
LAST-MODIFIED:20260326T152136Z
UID:12136-1782324000-1782331200@www.formyplan.com
SUMMARY:Estate Planning Basics – Brighton
DESCRIPTION:(810) 299-4130 \nRegister Online
URL:https://www.formyplan.com/event/estate-planning-basics-brighton-5/
LOCATION:Brighton Education and Community Center (BECC)\, 125 S. Church St.\, Senior Center - Studio A\, Brighton\, MI\, 48116\, United States
CATEGORIES:Estate Planning Basics
ATTACH;FMTTYPE=image/png:https://www.formyplan.com/wp-content/uploads/2023/10/blog.png
END:VEVENT
END:VCALENDAR